BEGIN:VCALENDAR
VERSION:2.0
PRODID:-//Santa Maria Assembly 0915 - ECPv6.15.13//NONSGML v1.0//EN
CALSCALE:GREGORIAN
METHOD:PUBLISH
X-WR-CALNAME:Santa Maria Assembly 0915
X-ORIGINAL-URL:https://sma0915.com
X-WR-CALDESC:Events for Santa Maria Assembly 0915
REFRESH-INTERVAL;VALUE=DURATION:PT1H
X-Robots-Tag:noindex
X-PUBLISHED-TTL:PT1H
BEGIN:VTIMEZONE
TZID:America/New_York
BEGIN:DAYLIGHT
TZOFFSETFROM:-0500
TZOFFSETTO:-0400
TZNAME:EDT
DTSTART:20240310T070000
END:DAYLIGHT
BEGIN:STANDARD
TZOFFSETFROM:-0400
TZOFFSETTO:-0500
TZNAME:EST
DTSTART:20241103T060000
END:STANDARD
BEGIN:DAYLIGHT
TZOFFSETFROM:-0500
TZOFFSETTO:-0400
TZNAME:EDT
DTSTART:20250309T070000
END:DAYLIGHT
BEGIN:STANDARD
TZOFFSETFROM:-0400
TZOFFSETTO:-0500
TZNAME:EST
DTSTART:20251102T060000
END:STANDARD
BEGIN:DAYLIGHT
TZOFFSETFROM:-0500
TZOFFSETTO:-0400
TZNAME:EDT
DTSTART:20260308T070000
END:DAYLIGHT
BEGIN:STANDARD
TZOFFSETFROM:-0400
TZOFFSETTO:-0500
TZNAME:EST
DTSTART:20261101T060000
END:STANDARD
END:VTIMEZONE
BEGIN:VEVENT
DTSTART;TZID=America/New_York:20251216T193000
DTEND;TZID=America/New_York:20251216T203000
DTSTAMP:20260421T004816
CREATED:20250208T194508Z
LAST-MODIFIED:20250208T194508Z
UID:8073-1765913400-1765917000@sma0915.com
SUMMARY:Assembly Meeting
DESCRIPTION:
URL:https://sma0915.com/event/assembly-meeting-15/
LOCATION:St Frances X. Marshall\, 1 St Peters Pl\, Elizabethtown\, PA\, 17022\, United States
END:VEVENT
BEGIN:VEVENT
DTSTART;TZID=America/New_York:20251118T193000
DTEND;TZID=America/New_York:20251118T203000
DTSTAMP:20260421T004816
CREATED:20250208T194936Z
LAST-MODIFIED:20250208T194936Z
UID:8075-1763494200-1763497800@sma0915.com
SUMMARY:Assembly Meeting
DESCRIPTION:
URL:https://sma0915.com/event/assembly-meeting-16/
LOCATION:Father Kuhn Hall @ OMPH Church\, 300 Church Avenue\, Ephrata\, PA\, 17522\, United States
END:VEVENT
BEGIN:VEVENT
DTSTART;TZID=America/New_York:20251109T103000
DTEND;TZID=America/New_York:20251109T140000
DTSTAMP:20260421T004816
CREATED:20250922T132347Z
LAST-MODIFIED:20250922T132347Z
UID:8226-1762684200-1762696800@sma0915.com
SUMMARY:Veterans Memorial Mass
DESCRIPTION:Mass will be at 11:00 am the Honor Guard is requested at 10:30am. Breakfast will follow at the Ephrata American Legion.
URL:https://sma0915.com/event/veterans-memorial-mass/
LOCATION:OMPH Church\, 320 Church Avenue\, Ephrata\, PA\, 17522\, United States
END:VEVENT
BEGIN:VEVENT
DTSTART;TZID=America/New_York:20251026T083000
DTEND;TZID=America/New_York:20251026T110000
DTSTAMP:20260421T004816
CREATED:20250922T132220Z
LAST-MODIFIED:20250922T132220Z
UID:8224-1761467400-1761476400@sma0915.com
SUMMARY:Fathers Daly Council Memorial Mass
DESCRIPTION:Mass will be celebrated at 9:00 am the Honor Guard is requested at 8:30 am. Breakfast will follow at the Epharta American Legion 300 Cocalico St. Epharta
URL:https://sma0915.com/event/fathers-daly-council-memorial-mass/
LOCATION:OMPH Church\, 320 Church Avenue\, Ephrata\, PA\, 17522\, United States
END:VEVENT
BEGIN:VEVENT
DTSTART;TZID=America/New_York:20251021T193000
DTEND;TZID=America/New_York:20251021T203000
DTSTAMP:20260421T004816
CREATED:20250208T194328Z
LAST-MODIFIED:20250208T194328Z
UID:8070-1761075000-1761078600@sma0915.com
SUMMARY:Assembly Meeting
DESCRIPTION:
URL:https://sma0915.com/event/assembly-meeting-14/
LOCATION:Mary Mother of the Church\, 625 Union School Rd\, Mount Joy\, PA\, 17552\, United States
END:VEVENT
BEGIN:VEVENT
DTSTART;VALUE=DATE:20251018
DTEND;VALUE=DATE:20251019
DTSTAMP:20260421T004816
CREATED:20250922T132031Z
LAST-MODIFIED:20250922T132031Z
UID:8222-1760745600-1760831999@sma0915.com
SUMMARY:Fourth Degree Exemplification
DESCRIPTION:
URL:https://sma0915.com/event/fourth-degree-exemplification-2/
LOCATION:Saint Phillip the Apostle\, 2111 Millersville Pike\, Lancaster\, PA\, 17603\, United States
END:VEVENT
BEGIN:VEVENT
DTSTART;TZID=America/New_York:20251012T073000
DTEND;TZID=America/New_York:20251012T100000
DTSTAMP:20260421T004816
CREATED:20250922T131926Z
LAST-MODIFIED:20250922T131926Z
UID:8220-1760254200-1760263200@sma0915.com
SUMMARY:Saint Catherine of Siena memorial Mass
DESCRIPTION:Mass is at 8:00am the Honor Guard is requested by 7:30am. Coffee and donuts after Mass
URL:https://sma0915.com/event/saint-catherine-of-siena-memorial-mass/
LOCATION:St. Catherine of Sienna\, 955 Robert Fulton Hwy\, Quarryville\, PA\, 17566\, United States
END:VEVENT
BEGIN:VEVENT
DTSTART;TZID=America/New_York:20250928T103000
DTEND;TZID=America/New_York:20250928T130000
DTSTAMP:20260421T004816
CREATED:20250922T131739Z
LAST-MODIFIED:20250922T131739Z
UID:8218-1759055400-1759064400@sma0915.com
SUMMARY:Blue Mass and Reception
DESCRIPTION:Mass will be at 11:00 am the Honor Guard is requested at 10:30am.
URL:https://sma0915.com/event/blue-mass-and-reception/
LOCATION:OMPH Church\, 320 Church Avenue\, Ephrata\, PA\, 17522\, United States
END:VEVENT
BEGIN:VEVENT
DTSTART;TZID=America/New_York:20250922T093000
DTEND;TZID=America/New_York:20250922T120000
DTSTAMP:20260421T004816
CREATED:20250922T131529Z
LAST-MODIFIED:20250922T131529Z
UID:8215-1758533400-1758542400@sma0915.com
SUMMARY:Pro Life Masses at St Patricks Cathedral
DESCRIPTION:Opening Mass at  9:30 am celebrated by Bishop Senior Closing Mass at 1:30 pm celebrated by Archbishop Nelson Perez of Philadelphia.
URL:https://sma0915.com/event/pro-life-masses-at-st-patricks-cathedral/
LOCATION:Saint Patricks Cathedral\, 212 State Street\, Harrisburg\, PA\, 17101\, United States
END:VEVENT
BEGIN:VEVENT
DTSTART;TZID=America/New_York:20250916T193000
DTEND;TZID=America/New_York:20250916T203000
DTSTAMP:20260421T004816
CREATED:20250208T194203Z
LAST-MODIFIED:20250208T194203Z
UID:8067-1758051000-1758054600@sma0915.com
SUMMARY:Assembly Meeting
DESCRIPTION:
URL:https://sma0915.com/event/assembly-meeting-13/
LOCATION:St. Catherine of Sienna\, 955 Robert Fulton Hwy\, Quarryville\, PA\, 17566\, United States
END:VEVENT
BEGIN:VEVENT
DTSTART;TZID=America/New_York:20250819T193000
DTEND;TZID=America/New_York:20250819T203000
DTSTAMP:20260421T004816
CREATED:20250208T194121Z
LAST-MODIFIED:20250208T194121Z
UID:8065-1755631800-1755635400@sma0915.com
SUMMARY:Assembly Meeting
DESCRIPTION:
URL:https://sma0915.com/event/assembly-meeting-12/
LOCATION:Lancaster 867\, 1575 New Danville Pike\, Lancaster\, PA\, 17603\, United States
END:VEVENT
BEGIN:VEVENT
DTSTART;TZID=America/New_York:20250715T193000
DTEND;TZID=America/New_York:20250715T203000
DTSTAMP:20260421T004816
CREATED:20250208T194027Z
LAST-MODIFIED:20250208T194027Z
UID:8062-1752607800-1752611400@sma0915.com
SUMMARY:Assembly Meeting
DESCRIPTION:
URL:https://sma0915.com/event/assembly-meeting-11/
LOCATION:Columbia Council Home\, 400 Maple Street\, Columbia\, PA\, 17512\, United States
END:VEVENT
BEGIN:VEVENT
DTSTART;TZID=America/New_York:20250617T193000
DTEND;TZID=America/New_York:20250617T203000
DTSTAMP:20260421T004816
CREATED:20250208T193809Z
LAST-MODIFIED:20250208T193809Z
UID:8059-1750188600-1750192200@sma0915.com
SUMMARY:Assembly Meeting
DESCRIPTION:
URL:https://sma0915.com/event/assembly-meeting-10/
LOCATION:Our Lady of Lourdes\, 150 Water Street\, New Holland\, PA\, 17557\, United States
END:VEVENT
BEGIN:VEVENT
DTSTART;TZID=America/New_York:20250520T193000
DTEND;TZID=America/New_York:20250520T203000
DTSTAMP:20260421T004816
CREATED:20250208T193447Z
LAST-MODIFIED:20250208T193447Z
UID:8057-1747769400-1747773000@sma0915.com
SUMMARY:Assembly Meeting
DESCRIPTION:
URL:https://sma0915.com/event/assembly-meeting-9/
LOCATION:Saint John Neumann Catholic Church\, 601 E. Delp Road\, Lancaster\, PA\, 17601\, United States
END:VEVENT
BEGIN:VEVENT
DTSTART;TZID=America/New_York:20250425T080000
DTEND;TZID=America/New_York:20250425T170000
DTSTAMP:20260421T004816
CREATED:20240816T133456Z
LAST-MODIFIED:20240816T151822Z
UID:7929-1745568000-1745600400@sma0915.com
SUMMARY:Assembly Memorial Mass and Charter Night
DESCRIPTION:Mass and Celebration at OMPH Church \nThe Memorial Mass\, with the Honor Guard present\, will be held at OMPH Church at 5 PM followed by Charter Night in the Father Jackson Center.
URL:https://sma0915.com/event/assembly-memorial-mass-and-charter-night/
LOCATION:OMPH Church\, 320 Church Avenue\, Ephrata\, PA\, 17522\, United States
END:VEVENT
END:VCALENDAR