BEGIN:VCALENDAR
VERSION:2.0
PRODID:-//Santa Maria Assembly 0915 - ECPv6.15.13//NONSGML v1.0//EN
CALSCALE:GREGORIAN
METHOD:PUBLISH
X-WR-CALNAME:Santa Maria Assembly 0915
X-ORIGINAL-URL:https://sma0915.com
X-WR-CALDESC:Events for Santa Maria Assembly 0915
REFRESH-INTERVAL;VALUE=DURATION:PT1H
X-Robots-Tag:noindex
X-PUBLISHED-TTL:PT1H
BEGIN:VTIMEZONE
TZID:America/New_York
BEGIN:DAYLIGHT
TZOFFSETFROM:-0500
TZOFFSETTO:-0400
TZNAME:EDT
DTSTART:20240310T070000
END:DAYLIGHT
BEGIN:STANDARD
TZOFFSETFROM:-0400
TZOFFSETTO:-0500
TZNAME:EST
DTSTART:20241103T060000
END:STANDARD
BEGIN:DAYLIGHT
TZOFFSETFROM:-0500
TZOFFSETTO:-0400
TZNAME:EDT
DTSTART:20250309T070000
END:DAYLIGHT
BEGIN:STANDARD
TZOFFSETFROM:-0400
TZOFFSETTO:-0500
TZNAME:EST
DTSTART:20251102T060000
END:STANDARD
BEGIN:DAYLIGHT
TZOFFSETFROM:-0500
TZOFFSETTO:-0400
TZNAME:EDT
DTSTART:20260308T070000
END:DAYLIGHT
BEGIN:STANDARD
TZOFFSETFROM:-0400
TZOFFSETTO:-0500
TZNAME:EST
DTSTART:20261101T060000
END:STANDARD
BEGIN:DAYLIGHT
TZOFFSETFROM:-0500
TZOFFSETTO:-0400
TZNAME:EDT
DTSTART:20270314T070000
END:DAYLIGHT
BEGIN:STANDARD
TZOFFSETFROM:-0400
TZOFFSETTO:-0500
TZNAME:EST
DTSTART:20271107T060000
END:STANDARD
END:VTIMEZONE
BEGIN:VEVENT
DTSTART;TZID=America/New_York:20251118T193000
DTEND;TZID=America/New_York:20251118T203000
DTSTAMP:20260420T212915
CREATED:20250208T194936Z
LAST-MODIFIED:20250208T194936Z
UID:8075-1763494200-1763497800@sma0915.com
SUMMARY:Assembly Meeting
DESCRIPTION:
URL:https://sma0915.com/event/assembly-meeting-16/
LOCATION:Father Kuhn Hall @ OMPH Church\, 300 Church Avenue\, Ephrata\, PA\, 17522\, United States
END:VEVENT
BEGIN:VEVENT
DTSTART;TZID=America/New_York:20251216T193000
DTEND;TZID=America/New_York:20251216T203000
DTSTAMP:20260420T212915
CREATED:20250208T194508Z
LAST-MODIFIED:20250208T194508Z
UID:8073-1765913400-1765917000@sma0915.com
SUMMARY:Assembly Meeting
DESCRIPTION:
URL:https://sma0915.com/event/assembly-meeting-15/
LOCATION:St Frances X. Marshall\, 1 St Peters Pl\, Elizabethtown\, PA\, 17022\, United States
END:VEVENT
BEGIN:VEVENT
DTSTART;TZID=America/New_York:20251227T180000
DTEND;TZID=America/New_York:20251227T220000
DTSTAMP:20260420T212915
CREATED:20251027T163613Z
LAST-MODIFIED:20251027T213910Z
UID:8231-1766858400-1766872800@sma0915.com
SUMMARY:Christmas Party
DESCRIPTION:
URL:https://sma0915.com/event/christmas-party/
LOCATION:Ephrata American Legion\, 300 Cocalico St.\, Ephrata\, 17522
ORGANIZER;CN="Greg Schlotterer":MAILTO:gschlotterer@yorkbuilding.com
END:VEVENT
BEGIN:VEVENT
DTSTART;TZID=America/New_York:20260120T193000
DTEND;TZID=America/New_York:20260120T203000
DTSTAMP:20260420T212915
CREATED:20251209T165928Z
LAST-MODIFIED:20251209T165928Z
UID:8285-1768937400-1768941000@sma0915.com
SUMMARY:Assembly Meeting
DESCRIPTION:
URL:https://sma0915.com/event/assembly-meeting/
LOCATION:Saint Phillip the Apostle\, 2111 Millersville Pike\, Lancaster\, PA\, 17603\, United States
END:VEVENT
BEGIN:VEVENT
DTSTART;TZID=America/New_York:20260217T193000
DTEND;TZID=America/New_York:20260217T203000
DTSTAMP:20260420T212915
CREATED:20251209T170159Z
LAST-MODIFIED:20251209T170159Z
UID:8287-1771356600-1771360200@sma0915.com
SUMMARY:Assembly Meeting
DESCRIPTION:
URL:https://sma0915.com/event/assembly-meeting-2/
LOCATION:Lancaster 867\, 1575 New Danville Pike\, Lancaster\, PA\, 17603\, United States
END:VEVENT
BEGIN:VEVENT
DTSTART;TZID=America/New_York:20260317T193000
DTEND;TZID=America/New_York:20260317T203000
DTSTAMP:20260420T212915
CREATED:20251209T170309Z
LAST-MODIFIED:20251209T170309Z
UID:8289-1773775800-1773779400@sma0915.com
SUMMARY:Assembly Meeting
DESCRIPTION:
URL:https://sma0915.com/event/assembly-meeting-3/
LOCATION:Father Kuhn Hall @ OMPH Church\, 300 Church Avenue\, Ephrata\, PA\, 17522\, United States
END:VEVENT
BEGIN:VEVENT
DTSTART;TZID=America/New_York:20260421T193000
DTEND;TZID=America/New_York:20260421T203000
DTSTAMP:20260420T212915
CREATED:20251209T170631Z
LAST-MODIFIED:20251209T170631Z
UID:8291-1776799800-1776803400@sma0915.com
SUMMARY:Assembly Meeting
DESCRIPTION:
URL:https://sma0915.com/event/assembly-meeting-4/
LOCATION:St. Catherine of Sienna\, 955 Robert Fulton Hwy\, Quarryville\, PA\, 17566\, United States
END:VEVENT
BEGIN:VEVENT
DTSTART;TZID=America/New_York:20260519T193000
DTEND;TZID=America/New_York:20260519T203000
DTSTAMP:20260420T212915
CREATED:20251209T170741Z
LAST-MODIFIED:20251209T170741Z
UID:8293-1779219000-1779222600@sma0915.com
SUMMARY:Assembly Meeting
DESCRIPTION:
URL:https://sma0915.com/event/assembly-meeting-17/
LOCATION:Saint John Neumann Catholic Church\, 601 E. Delp Road\, Lancaster\, PA\, 17601\, United States
END:VEVENT
BEGIN:VEVENT
DTSTART;TZID=America/New_York:20260616T193000
DTEND;TZID=America/New_York:20260616T203000
DTSTAMP:20260420T212915
CREATED:20251209T170900Z
LAST-MODIFIED:20251209T170900Z
UID:8295-1781638200-1781641800@sma0915.com
SUMMARY:Assembly Meeting
DESCRIPTION:
URL:https://sma0915.com/event/assembly-meeting-18/
LOCATION:St Frances X. Marshall\, 1 St Peters Pl\, Elizabethtown\, PA\, 17022\, United States
END:VEVENT
BEGIN:VEVENT
DTSTART;TZID=America/New_York:20260721T193000
DTEND;TZID=America/New_York:20260721T203000
DTSTAMP:20260420T212915
CREATED:20251209T171004Z
LAST-MODIFIED:20251209T171004Z
UID:8297-1784662200-1784665800@sma0915.com
SUMMARY:Assembly Meeting
DESCRIPTION:
URL:https://sma0915.com/event/assembly-meeting-19/
LOCATION:Columbia Council Home\, 400 Maple Street\, Columbia\, PA\, 17512\, United States
END:VEVENT
BEGIN:VEVENT
DTSTART;TZID=America/New_York:20260818T193000
DTEND;TZID=America/New_York:20260818T203000
DTSTAMP:20260420T212915
CREATED:20251209T171106Z
LAST-MODIFIED:20251209T171106Z
UID:8299-1787081400-1787085000@sma0915.com
SUMMARY:Assembly Meeting
DESCRIPTION:
URL:https://sma0915.com/event/assembly-meeting-20/
LOCATION:Lancaster 867\, 1575 New Danville Pike\, Lancaster\, PA\, 17603\, United States
END:VEVENT
BEGIN:VEVENT
DTSTART;TZID=America/New_York:20260915T193000
DTEND;TZID=America/New_York:20260915T203000
DTSTAMP:20260420T212915
CREATED:20251209T171203Z
LAST-MODIFIED:20251209T171203Z
UID:8301-1789500600-1789504200@sma0915.com
SUMMARY:Assembly Meeting
DESCRIPTION:
URL:https://sma0915.com/event/assembly-meeting-21/
LOCATION:Father Kuhn Hall @ OMPH Church\, 300 Church Avenue\, Ephrata\, PA\, 17522\, United States
END:VEVENT
BEGIN:VEVENT
DTSTART;TZID=America/New_York:20261020T193000
DTEND;TZID=America/New_York:20261020T203000
DTSTAMP:20260420T212915
CREATED:20251209T171331Z
LAST-MODIFIED:20251209T171331Z
UID:8303-1792524600-1792528200@sma0915.com
SUMMARY:Assembly Meeting
DESCRIPTION:
URL:https://sma0915.com/event/assembly-meeting-22/
LOCATION:St. Catherine of Sienna\, 955 Robert Fulton Hwy\, Quarryville\, PA\, 17566\, United States
END:VEVENT
BEGIN:VEVENT
DTSTART;TZID=America/New_York:20261117T193000
DTEND;TZID=America/New_York:20261117T203000
DTSTAMP:20260420T212915
CREATED:20251209T171440Z
LAST-MODIFIED:20251209T171440Z
UID:8305-1794943800-1794947400@sma0915.com
SUMMARY:Assembly Meeting
DESCRIPTION:
URL:https://sma0915.com/event/assembly-meeting-23/
LOCATION:Our Lady of Lourdes\, 150 Water Street\, New Holland\, PA\, 17557\, United States
END:VEVENT
BEGIN:VEVENT
DTSTART;TZID=America/New_York:20261215T193000
DTEND;TZID=America/New_York:20261215T203000
DTSTAMP:20260420T212915
CREATED:20251209T171527Z
LAST-MODIFIED:20251209T171527Z
UID:8307-1797363000-1797366600@sma0915.com
SUMMARY:Assembly Meeting
DESCRIPTION:
URL:https://sma0915.com/event/assembly-meeting-24/
LOCATION:St Frances X. Marshall\, 1 St Peters Pl\, Elizabethtown\, PA\, 17022\, United States
END:VEVENT
END:VCALENDAR